BEGIN:VCALENDAR
VERSION:2.0
PRODID:-//InvisionCommunity Events 4.7.17//EN
METHOD:PUBLISH
CALSCALE:GREGORIAN
REFRESH-INTERVAL:PT15M
X-PUBLISHED-TTL:PT15M
X-WR-CALNAME:Community Events
NAME:Community Events
BEGIN:VTIMEZONE
TZID:Europe/London
TZURL:http://tzurl.org/zoneinfo/Europe/London
X-LIC-LOCATION:Europe/London
BEGIN:DAYLIGHT
TZOFFSETFROM:+0000
TZOFFSETTO:+0100
TZNAME:BST
DTSTART:20210328T020000Z
RRULE:FREQ=YEARLY;BYMONTH=3;BYDAY=-1SU
END:DAYLIGHT
BEGIN:STANDARD
TZOFFSETFROM:+0100
TZOFFSETTO:+0000
TZNAME:GMT
DTSTART:20211031T020000Z
RRULE:FREQ=YEARLY;BYMONTH=10;BYDAY=-1SU
END:STANDARD
END:VTIMEZONE
BEGIN:VEVENT
SUMMARY:Tiberian Sun: Reborn Game Night - TS Anniversary Special
DTSTAMP:20210727T224758Z
SEQUENCE:0
UID:245-3-44941ae037d8aaa957bdeddeee5cbfa0@w3dhub.com
ORGANIZER;CN="OWA":forumadmin@w3dhub.com
DESCRIPTION:\n	Join us on the 19th of August at 7PM GMT for a Tiberian S
	un: Reborn Game Night! This is in conjunction with the Tiberian Sun 22nd A
	nniversary event which will be happening all throughout the latter half of
	 August.\n\n\n\n	 \n\n\n\n	For more details\, head to the official event 
	Discord\, here: https://discord.gg/MuNuuvQZJB\n\n\n\n	 \n\n\n\n	\n\n
DTSTART:20210819T180000Z
DTEND:20210819T220000Z
ATTENDEE;CN="NoahAllen522";CUTYPE=INDIVIDUAL;PARTSTAT=ACCEPT
	ED:forumadmin@w3dhub.com
ATTENDEE;CN="Anon_Kat";CUTYPE=INDIVIDUAL;PARTSTAT=ACCEPTED:f
	orumadmin@w3dhub.com
ATTENDEE;CN="darkyuri-cz";CUTYPE=INDIVIDUAL;PARTSTAT=ACCEPTE
	D:forumadmin@w3dhub.com
ATTENDEE;CN="PXD2000";CUTYPE=INDIVIDUAL;PARTSTAT=ACCEPTED:fo
	rumadmin@w3dhub.com
ATTENDEE;CN="OWA";CUTYPE=INDIVIDUAL;PARTSTAT=ACCEPTED:foruma
	dmin@w3dhub.com
ATTENDEE;CN="NodGuy";CUTYPE=INDIVIDUAL;PARTSTAT=ACCEPTED:for
	umadmin@w3dhub.com
ATTENDEE;CN="lynx";CUTYPE=INDIVIDUAL;PARTSTAT=ACCEPTED:forum
	admin@w3dhub.com
ATTENDEE;CN="Guest";CUTYPE=INDIVI
	DUAL;PARTSTAT=ACCEPTED:forumadmin@w3dhub.com
ATTENDEE;CN="starcraft2bill@gmail.com";CUTYPE=INDIVIDUAL;PAR
	TSTAT=ACCEPTED:forumadmin@w3dhub.com
END:VEVENT
END:VCALENDAR
