BEGIN:VCALENDAR
VERSION:2.0
PRODID:-//InvisionCommunity Events 4.7.17//EN
METHOD:PUBLISH
CALSCALE:GREGORIAN
REFRESH-INTERVAL:PT15M
X-PUBLISHED-TTL:PT15M
X-WR-CALNAME:Community Events
NAME:Community Events
BEGIN:VTIMEZONE
TZID:Europe/London
TZURL:http://tzurl.org/zoneinfo/Europe/London
X-LIC-LOCATION:Europe/London
BEGIN:DAYLIGHT
TZOFFSETFROM:+0000
TZOFFSETTO:+0100
TZNAME:BST
DTSTART:20220327T020000Z
RRULE:FREQ=YEARLY;BYMONTH=3;BYDAY=-1SU
END:DAYLIGHT
BEGIN:STANDARD
TZOFFSETFROM:+0100
TZOFFSETTO:+0000
TZNAME:GMT
DTSTART:20221030T020000Z
RRULE:FREQ=YEARLY;BYMONTH=10;BYDAY=-1SU
END:STANDARD
END:VTIMEZONE
BEGIN:VEVENT
SUMMARY:APB Game Night and Update!
DTSTAMP:20220428T022823Z
SEQUENCE:0
UID:300-3-44941ae037d8aaa957bdeddeee5cbfa0@w3dhub.com
ORGANIZER;CN="FRAYDO":forumadmin@w3dhub.com
DESCRIPTION:\n	New APB update on the horizon! Featuring new vehicle fact
	ory queues\, Minelayers being able to remove their own team's mines\, rede
	signed NorthByNorthwest\, and more! Stay tuned for the dev update!\n\n\n\n
		MARK YOUR CALENDARS FOR APRIL 30 APB GAME NIGHT/7 PM GMT\n\n
DTSTART:20220430T190000Z
DTEND:20220430T220000Z
END:VEVENT
END:VCALENDAR
